BEGIN:VCALENDAR
VERSION:2.0
PRODID:-//Tukios.com/
BEGIN:VEVENT
UID:eeba4e99-98b8-4e14-bf90-372d893dd9a3@www.atkinsonfuneralhome.com
DTSTAMP:20260422T221947Z
DTSTART:20260427T150000Z
DTEND:20260427T160000Z
SUMMARY:Funeral Service
DESCRIPTION:
URL:https://www.atkinsonfuneralhome.com/obituaries/theron-deshazer
LOCATION:Atkinson Funeral Home 600 W Wall St  Harrisonville MO 64701
GEO:38.6549175;-94.3528199
END:VEVENT
END:VCALENDAR